BEGIN:VCALENDAR
VERSION:2.0
PRODID:-//Green Watford - ECPv6.3.3.1//NONSGML v1.0//EN
CALSCALE:GREGORIAN
METHOD:PUBLISH
X-WR-CALNAME:Green Watford
X-ORIGINAL-URL:https://greenwatford.uk
X-WR-CALDESC:Events for Green Watford
REFRESH-INTERVAL;VALUE=DURATION:PT1H
X-Robots-Tag:noindex
X-PUBLISHED-TTL:PT1H
BEGIN:VTIMEZONE
TZID:Europe/London
BEGIN:DAYLIGHT
TZOFFSETFROM:+0000
TZOFFSETTO:+0100
TZNAME:BST
DTSTART:20250330T010000
END:DAYLIGHT
BEGIN:STANDARD
TZOFFSETFROM:+0100
TZOFFSETTO:+0000
TZNAME:GMT
DTSTART:20251026T010000
END:STANDARD
BEGIN:DAYLIGHT
TZOFFSETFROM:+0000
TZOFFSETTO:+0100
TZNAME:BST
DTSTART:20260329T010000
END:DAYLIGHT
BEGIN:STANDARD
TZOFFSETFROM:+0100
TZOFFSETTO:+0000
TZNAME:GMT
DTSTART:20261025T010000
END:STANDARD
END:VTIMEZONE
BEGIN:VEVENT
DTSTART;TZID=Europe/London:20250614T100000
DTEND;TZID=Europe/London:20250614T140000
DTSTAMP:20260421T015346
CREATED:20250509T131519Z
LAST-MODIFIED:20250525T210604Z
UID:1873-1749895200-1749909600@greenwatford.uk
SUMMARY:CLP's Plant & Planet Fair
DESCRIPTION:On Saturday 14th June 2025 we will have plenty of tea\, coffee and cake for you to enjoy in the yarn room\, as well as stalls selling items made from natural\, reused or repurposed resources and materials\, craft kits and more. There will be stalls selling plants and horticulture related goods for sale in the large hall. Entry is £1 per person\, under 5s free \nSuitable for all ages\, wheelchair accessible \n 
URL:https://greenwatford.uk/event/clps-plant-planet-fair/
LOCATION:St Martin’s Church\, Muirfield Road\, South Oxhey\, WD19 6JD
CATEGORIES:Community
END:VEVENT
BEGIN:VEVENT
DTSTART;TZID=Europe/London:20250614T110000
DTEND;TZID=Europe/London:20250614T150000
DTSTAMP:20260421T015346
CREATED:20250425T125825Z
LAST-MODIFIED:20250425T125825Z
UID:1784-1749898800-1749913200@greenwatford.uk
SUMMARY:Random Cafe Great Big Green Day
DESCRIPTION:A old style garden fete\, with information stalls and fun and games for all the family. \nNo booking required; free event but costs for refreshments and some stalls \nSuitable for all ages; Wheelchair accessible
URL:https://greenwatford.uk/event/random-cafe-great-big-green-day/
LOCATION:Random Cafe\, Meriden Gardens\,24a Garsmouth Way\, Watford\, WD25 9DR
CATEGORIES:Climate focused events,Community,Food events
END:VEVENT
BEGIN:VEVENT
DTSTART;TZID=Europe/London:20250615T190000
DTEND;TZID=Europe/London:20250615T200000
DTSTAMP:20260421T015346
CREATED:20250425T211215Z
LAST-MODIFIED:20250525T210154Z
UID:1827-1750014000-1750017600@greenwatford.uk
SUMMARY:Meeting for Worship outdoors
DESCRIPTION:Sustainability is a core Quaker value. Join us for silent worship outside in our peaceful garden\, followed by refreshments. All welcome. Wheelchair accessible. \nWe will move inside in the event of rain \n 
URL:https://greenwatford.uk/event/meeting-for-worship-outdoors/
LOCATION:Watford Quaker Meeting House\, 150 Church Road\, Watford\, WD17 4QB\, United Kingdom
CATEGORIES:Community
ORGANIZER;CN="Watford Quakers":MAILTO:enquiries@watfordquakers.org.uk
END:VEVENT
BEGIN:VEVENT
DTSTART;TZID=Europe/London:20260606T110000
DTEND;TZID=Europe/London:20260606T150000
DTSTAMP:20260421T015346
CREATED:20260416T190604Z
LAST-MODIFIED:20260416T190604Z
UID:2064-1780743600-1780758000@greenwatford.uk
SUMMARY:Family Fun Day
DESCRIPTION:We are holding a old style village fete using recycled items to make games and fun activities. \nChild friendly/ aimed at children\, but suitable for all ages \nNo booking required\, entry is £1 for adults\, children are free. Most stall are free\, some have a small cost. \n \n 
URL:https://greenwatford.uk/event/family-fun-day/
LOCATION:Random Cafe\, Meriden Gardens\,24a Garsmouth Way\, Watford\, WD25 9DR
CATEGORIES:Community
END:VEVENT
BEGIN:VEVENT
DTSTART;TZID=Europe/London:20260611T170000
DTEND;TZID=Europe/London:20260611T190000
DTSTAMP:20260421T015346
CREATED:20260419T201211Z
LAST-MODIFIED:20260419T201211Z
UID:2075-1781197200-1781204400@greenwatford.uk
SUMMARY:Greening the Heart of Watford
DESCRIPTION:A chance to celebrate and enjoy the fruits (and flowers) of our labour to restore nature in St Mary’s Churchyard. The event includes a trip up the tower\, a bug hunt in the graveyard and wildflower meadow\, and a chance to make your own nature friendly crafts\, plus a chance to get involved in this exciting and rewarding work! \nThe church building will be used in bad weather! \nNo booking required; Suitable for all ages; Wheelchair friendly apart from access to the tower not possible.
URL:https://greenwatford.uk/event/greening-the-heart-of-watford/
LOCATION:St Mary’s Church\, 1 Church Street\, Watford\, WD18 0EG\, United Kingdom
CATEGORIES:Community,Conservation work / volunteering
END:VEVENT
BEGIN:VEVENT
DTSTART;TZID=Europe/London:20260613T100000
DTEND;TZID=Europe/London:20260613T130000
DTSTAMP:20260421T015346
CREATED:20260420T205612Z
LAST-MODIFIED:20260420T210148Z
UID:2093-1781344800-1781355600@greenwatford.uk
SUMMARY:Watford Repair Cafe
DESCRIPTION:Before you throw that broken thing away why not bring it along to the Watford Repair Cafe? \nRunning on the second Saturday every month\, our volunteers tackle all manner of repairs to reduce waste\, save you money and share their skills \nFree entry\, tea/coffee/cake provided\, donations welcome! \n🔧 Electrical\n🪑 Furniture\n🧵 Clothing / fabrics\n💎 Jewellery\n🚲 Bikes\n✂ Tool sharpening\n🧸 Toys\n🏺Gluing\, plastic\, resin\n🔨 General repairs
URL:https://greenwatford.uk/event/watford-repair-cafe/
LOCATION:St Mary’s Church\, 1 Church Street\, Watford\, WD18 0EG\, United Kingdom
CATEGORIES:Community
ORGANIZER;CN="Watford Repair Cafe":MAILTO:repaircafe@sustainableswherts.uk
END:VEVENT
END:VCALENDAR