BEGIN:VCALENDAR
VERSION:2.0
PRODID:-//Green Watford - ECPv6.3.3.1//NONSGML v1.0//EN
CALSCALE:GREGORIAN
METHOD:PUBLISH
X-ORIGINAL-URL:https://greenwatford.uk
X-WR-CALDESC:Events for Green Watford
REFRESH-INTERVAL;VALUE=DURATION:PT1H
X-Robots-Tag:noindex
X-PUBLISHED-TTL:PT1H
BEGIN:VTIMEZONE
TZID:Europe/London
BEGIN:DAYLIGHT
TZOFFSETFROM:+0000
TZOFFSETTO:+0100
TZNAME:BST
DTSTART:20240331T010000
END:DAYLIGHT
BEGIN:STANDARD
TZOFFSETFROM:+0100
TZOFFSETTO:+0000
TZNAME:GMT
DTSTART:20241027T010000
END:STANDARD
END:VTIMEZONE
BEGIN:VEVENT
DTSTART;VALUE=DATE:20240608
DTEND;VALUE=DATE:20240617
DTSTAMP:20260420T223304
CREATED:20240219T144524Z
LAST-MODIFIED:20240219T144524Z
UID:1272-1717804800-1718582399@greenwatford.uk
SUMMARY:South West Herts Great Big Green Week
DESCRIPTION:The South West Herts Great Big Green Week (GBGW) and we look forward to you joining us. Events will be taking place across Three Rivers and Watford between the 8-16 June 2024. \nThe GBGW campaign aims to draw attention to climate change and destruction of the natural world\, while also making a connection with these issues and actions locally in Watford and Three Rivers. \nThe week is a collection of events with a sustainable and environmental focus run by local groups – from movie showings to walks and talks to practical actions.  Individual event litsings will be loaded as the GBGW dates approach.
URL:https://greenwatford.uk/event/south-west-herts-great-big-green-week-2/
CATEGORIES:Climate focused events,Community,Conservation work / volunteering,Film showings,Food events,Litter Picks,Walks and cycle events
END:VEVENT
BEGIN:VEVENT
DTSTART;TZID=Europe/London:20240610T100000
DTEND;TZID=Europe/London:20240615T160000
DTSTAMP:20260420T223304
CREATED:20240423T165129Z
LAST-MODIFIED:20240423T182457Z
UID:1524-1718013600-1718467200@greenwatford.uk
SUMMARY:RefillAbell water play for children
DESCRIPTION:Come and experience ‘refilling’ containers outside the shop. Play with measuring jugs\, funnels and taps. Please wear suitable clothing. Children must be accompanied by and adult\, and supervised by them. \nDaily event between 10am and 4pm\, Monday 10 June to Saturday 15 June.
URL:https://greenwatford.uk/event/refillabell-water-play-for-children/
LOCATION:RefillAbell\, 4 Haydon Road\, Oxhey Village\, Watford\, WD19 4DD
CATEGORIES:Community,Food events
ORGANIZER;CN="Refillable":MAILTO:refillabell@gmail.com
END:VEVENT
BEGIN:VEVENT
DTSTART;TZID=Europe/London:20240612T103000
DTEND;TZID=Europe/London:20240612T120000
DTSTAMP:20260420T223304
CREATED:20240420T221530Z
LAST-MODIFIED:20240501T151213Z
UID:1430-1718188200-1718193600@greenwatford.uk
SUMMARY:Volunteer gardening sessions
DESCRIPTION:Come along to our volunteer session at Cassiobury Park’s Peace Garden and help us look after this special place for people and wildlife. Please wear sturdy footwear and clothing appropriate for the weather and gloves & tools provided. \n \nNo booking required\, but would please contact cassiobury@watford.gov.uk so they are able to provide helpful event details. \nPeace Garden in Cassiobury Park near the Bowls Club on your left to site entrance via the gap in the hedge)\, WD18 7HY
URL:https://greenwatford.uk/event/volunteer-gardening-sessions/
LOCATION:Peace Garden\, Cassiobury Park\, Cassiobury Park\, Watford\, WD18 7HY
CATEGORIES:Community,Conservation work / volunteering
END:VEVENT
BEGIN:VEVENT
DTSTART;TZID=Europe/London:20240612T183000
DTEND;TZID=Europe/London:20240612T210000
DTSTAMP:20260420T223304
CREATED:20240425T070358Z
LAST-MODIFIED:20240530T164032Z
UID:1570-1718217000-1718226000@greenwatford.uk
SUMMARY:David Attenborough documentary screening and discussion
DESCRIPTION:Sir David Attenborough tells a story of hope in a time of crisis for UK nature in Saving Our Wild Isles: a documentary that came to BBC iPlayer in Spring 2023. Commissioned by WWF\, the RSPB and the National Trust\, and produced by Silverback Films\, the documentary was inspired by the Wild Isles series and shares stories of passionate people across the UK who are working to bring nature back from the brink. Watch ‘Our Wild Isles’ and listen to a panel of local experts discuss how we can act within the community to restore our local nature.
URL:https://greenwatford.uk/event/saving-our-wild-isles-documentary-screening-and-panel-discussion/
LOCATION:The Pump House\, 5 Local Board Road\, Watford\, WD17 2JP\, United Kingdom
CATEGORIES:Climate focused events,Community,Film showings
END:VEVENT
END:VCALENDAR