BEGIN:VCALENDAR
VERSION:2.0
PRODID:-//Green Watford - ECPv6.3.3.1//NONSGML v1.0//EN
CALSCALE:GREGORIAN
METHOD:PUBLISH
X-ORIGINAL-URL:https://greenwatford.uk
X-WR-CALDESC:Events for Green Watford
REFRESH-INTERVAL;VALUE=DURATION:PT1H
X-Robots-Tag:noindex
X-PUBLISHED-TTL:PT1H
BEGIN:VTIMEZONE
TZID:Europe/London
BEGIN:DAYLIGHT
TZOFFSETFROM:+0000
TZOFFSETTO:+0100
TZNAME:BST
DTSTART:20250330T010000
END:DAYLIGHT
BEGIN:STANDARD
TZOFFSETFROM:+0100
TZOFFSETTO:+0000
TZNAME:GMT
DTSTART:20251026T010000
END:STANDARD
END:VTIMEZONE
BEGIN:VEVENT
DTSTART;TZID=Europe/London:20250607T093000
DTEND;TZID=Europe/London:20250607T113000
DTSTAMP:20260420T011409
CREATED:20250509T121428Z
LAST-MODIFIED:20250511T114816Z
UID:1867-1749288600-1749295800@greenwatford.uk
SUMMARY:Golden Rose Flower Farm Volunteering at Woodoaks Farm
DESCRIPTION:Volunteer with organic flower farmer Mel at the Soil Association’s Woodoaks Farm and discover why nature-led farming offers hope for people and planet. \nEvent will proceed regardless of the weather; no booking required; suitable for over 16s only; accessibility varies please contact organiser on 07754 035614.
URL:https://greenwatford.uk/event/golden-rose-flower-farm-volunteering-at-woodoaks-farm/
LOCATION:Woodoaks Farm\, Woodoaks Farm\, Denham Way\, Maple Cross\, WD3 9XQ
CATEGORIES:Climate focused events,Community,Conservation work / volunteering
ORGANIZER;CN="Woodoaks Farm":MAILTO:info@woodoaksfarm.com
END:VEVENT
BEGIN:VEVENT
DTSTART;TZID=Europe/London:20250607T100000
DTEND;TZID=Europe/London:20250607T170000
DTSTAMP:20260420T011409
CREATED:20250425T211558Z
LAST-MODIFIED:20250530T063136Z
UID:1829-1749290400-1749315600@greenwatford.uk
SUMMARY:Wildlife Discovery Day
DESCRIPTION:Explore the Museum’s 45 acre site in the Chilterns and discover the species that live there with our family-friendly activities. Wheelchair accessible. \n£13.00 for adults. £12.00 Concessions. £10.00 for under 17s. Under 4’s are free. \nYou can book in advance or come along on the day. \n 
URL:https://greenwatford.uk/event/wildlife-discovery-day/
LOCATION:Chiltern Open Air Museum\, Newland Park\, Chalfont St Giles\, Buckinghamshire\, HP8 4AB
CATEGORIES:Community,Conservation work / volunteering
ORGANIZER;CN="Chiltern Open Air Museum":MAILTO:sustainableswherts@greenwatford.uk
END:VEVENT
BEGIN:VEVENT
DTSTART;TZID=Europe/London:20250608T110000
DTEND;TZID=Europe/London:20250608T160000
DTSTAMP:20260420T011409
CREATED:20250511T093800Z
LAST-MODIFIED:20250511T114745Z
UID:1880-1749380400-1749398400@greenwatford.uk
SUMMARY:Open Farm Sunday at Woodoaks Farm
DESCRIPTION:A free\, family-friendly day to explore the Soil Association’s Woodoaks Farm. Includes tractor & Trailer rides\, meet the farmers\, workshops and more. \nEvents will proceed regardless of the weather; no booking required; suitable for all ages; free but costs apply for tractor and trailer rides & parking; accessibility varies please contact organiser on 07754 035614.
URL:https://greenwatford.uk/event/open-farm-sunday-at-woodoaks-farm/
LOCATION:Woodoaks Farm\, Woodoaks Farm\, Denham Way\, Maple Cross\, WD3 9XQ
CATEGORIES:Climate focused events,Community,Food events
ORGANIZER;CN="Woodoaks Farm":MAILTO:info@woodoaksfarm.com
END:VEVENT
BEGIN:VEVENT
DTSTART;TZID=Europe/London:20250608T130000
DTEND;TZID=Europe/London:20250608T170000
DTSTAMP:20260420T011409
CREATED:20250417T112523Z
LAST-MODIFIED:20250525T210033Z
UID:1778-1749387600-1749402000@greenwatford.uk
SUMMARY:Croxley's Big Green Fair
DESCRIPTION:🌿 Croxley’s Big Green Fair 🌿 \nA Celebration of Local Sustainability \nJoin us for Croxley’s Big Green Fair – a vibrant\, market-style event showcasing local businesses\, organisations and initiatives all working towards a greener future! \n🛍️ Explore a wide range of eco-friendly products and services \n🌱 Connect with sustainable and environmental groups in the community \n🎤 Learn from free presentations and live demonstrations on how to live more sustainably \n👨‍👩‍👧‍👦 Enjoy fun\, family-friendly activities for all ages \nWhether you’re passionate about the environment or just curious to learn more\, there’s something for everyone. Come along\, shop green\, get inspired\, and be part of the change! \nFree Entry – All Are Welcome! \n 
URL:https://greenwatford.uk/event/croxleys-big-green-fair/
LOCATION:Croxley Green Parish Council Office\, Community Way\, Croxley Green\, WD3 3SU\, Community Way\, Croxley Green\, WD3 3SU\, United Kingdom
CATEGORIES:Climate focused events,Community
ORGANIZER;CN="Croxley Green Parish Council":MAILTO:info@croxleygreen-pc.gov.uk
END:VEVENT
BEGIN:VEVENT
DTSTART;TZID=Europe/London:20250608T150000
DTEND;TZID=Europe/London:20250608T170000
DTSTAMP:20260420T011409
CREATED:20250425T205907Z
LAST-MODIFIED:20250529T143927Z
UID:1823-1749394800-1749402000@greenwatford.uk
SUMMARY:Family-friendly movie screening – Wall-E (Great Big Green Week)
DESCRIPTION:Travel to a galaxy not so far away for a cosmic comedy adventure about a determined robot named WALL-E. After hundreds of lonely years of doing what he was built for\, the curious and lovable WALL-E discovers a new purpose in life when he meets a sleek search robot named EVE. Join them and a hilarious cast of characters on a fantastic journey across the universe. \nIf you would like to book more than four tickets\, please complete the form again
URL:https://greenwatford.uk/event/film-screening-2/
LOCATION:Watford Palace Theatre\, 20 Clarendon Road\, Watford\, WD17 1JZ
CATEGORIES:Community,Film showings
END:VEVENT
BEGIN:VEVENT
DTSTART;TZID=Europe/London:20250610T140000
DTEND;TZID=Europe/London:20250610T160000
DTSTAMP:20260420T011409
CREATED:20250407T161459Z
LAST-MODIFIED:20250525T205432Z
UID:1769-1749564000-1749571200@greenwatford.uk
SUMMARY:Allotment guided walk Paddock road\, Oxhey
DESCRIPTION:enjoy an afternoon looking at an allotment in a beautiful part of Watford\, discussing how allotments are good for biodiversity and for health benefits for all \n  \nwill go ahead unless absolutely pouring down and electrical storm! \n 
URL:https://greenwatford.uk/event/allotment-guided-walk-paddock-road-oxhey/
LOCATION:Paddock Road allotment\, Lower Paddock Road\, Oxhey\, Watford\, Hertfordshire\, WD19 4DY\, United Kingdom
CATEGORIES:Climate focused events,Community,Conservation work / volunteering,Walks and cycle events
ORGANIZER;CN="Veolia working with Watford Borough Council":MAILTO:robert.hopkins@veolia.com
END:VEVENT
BEGIN:VEVENT
DTSTART;TZID=Europe/London:20250611T093000
DTEND;TZID=Europe/London:20250611T103000
DTSTAMP:20260420T011409
CREATED:20250511T094849Z
LAST-MODIFIED:20250511T114647Z
UID:1884-1749634200-1749637800@greenwatford.uk
SUMMARY:Compost Club at Woodoaks Farm
DESCRIPTION:Drop in session to discover how to turn your garden and kitchen waste into wonderful organic compost. \nEvents will proceed regardless of the weather; no booking required; suitable for over 16s only; accessibility varies please contact organiser on 07754 035614. \n \n 
URL:https://greenwatford.uk/event/compost-club-at-woodoaks-farm/
LOCATION:Woodoaks Farm\, Woodoaks Farm\, Denham Way\, Maple Cross\, WD3 9XQ
CATEGORIES:Climate focused events,Community
ORGANIZER;CN="Woodoaks Farm":MAILTO:info@woodoaksfarm.com
END:VEVENT
BEGIN:VEVENT
DTSTART;TZID=Europe/London:20250612T173000
DTEND;TZID=Europe/London:20250612T190000
DTSTAMP:20260420T011409
CREATED:20250505T210731Z
LAST-MODIFIED:20250525T205904Z
UID:1851-1749749400-1749754800@greenwatford.uk
SUMMARY:Boosting Nature in St Mary’s Green Space
DESCRIPTION:We want to invite you to the soft launch of a Friends of St Mary’s Green Space to restore nature around the church and beyond. This event builds on the work of the Green Heart of Watford Initiative; St John’s School bug surveys\, pollinator planting\, habitat creation\, sowing of the Wildflower Meadow (by St John’s and Central Primary schools)\, and the creation of a new family play area by WBC. The idea is to establish a local community group to govern and support what goes on in that space. Indoors but likely to include a unique opportunity to climb the bell/clock tower and see the green space. Wheelchair accessible
URL:https://greenwatford.uk/event/boosting-nature-in-st-marys-green-space-2/
LOCATION:St Mary’s Church\, 1 Church Street\, Watford\, WD18 0EG\, United Kingdom
CATEGORIES:Community,Conservation work / volunteering
END:VEVENT
BEGIN:VEVENT
DTSTART;TZID=Europe/London:20250613T093000
DTEND;TZID=Europe/London:20250613T123000
DTSTAMP:20260420T011409
CREATED:20250511T095522Z
LAST-MODIFIED:20250511T114607Z
UID:1886-1749807000-1749817800@greenwatford.uk
SUMMARY:General Farm Volunteering at Woodoaks
DESCRIPTION:Join Woodoaks volunteer session at this nature-led farm\, supporting wildlife\, organic food growing\, and working for people and planet health. \nEvents will proceed regardless of the weather; no booking required; suitable for over 16s only; accessibility varies please contact organiser on 07754 035614.
URL:https://greenwatford.uk/event/general-farm-volunteering-at-woodoaks/
LOCATION:Woodoaks Farm\, Woodoaks Farm\, Denham Way\, Maple Cross\, WD3 9XQ
CATEGORIES:Climate focused events,Community,Conservation work / volunteering
ORGANIZER;CN="Woodoaks Farm":MAILTO:info@woodoaksfarm.com
END:VEVENT
BEGIN:VEVENT
DTSTART;TZID=Europe/London:20250614T093000
DTEND;TZID=Europe/London:20250614T113000
DTSTAMP:20260420T011409
CREATED:20250509T132511Z
LAST-MODIFIED:20250511T114538Z
UID:1877-1749893400-1749900600@greenwatford.uk
SUMMARY:Golden Rose Flower Farm Volunteering at Woodoaks Farm
DESCRIPTION:Volunteer with organic flower farmer Mel at the Soil Association’s Woodoaks Farm and discover why nature-led farming offers hope for people and planet. \nEvents will proceed regardless of the weather; no booking required; suitable for over 16s only; accessibility varies please contact organiser on 07754 035614.
URL:https://greenwatford.uk/event/golden-rose-flower-farm-volunteering-at-woodoaks-farm-2/
LOCATION:Woodoaks Farm\, Woodoaks Farm\, Denham Way\, Maple Cross\, WD3 9XQ
CATEGORIES:Climate focused events,Community,Conservation work / volunteering
ORGANIZER;CN="Woodoaks Farm":MAILTO:info@woodoaksfarm.com
END:VEVENT
BEGIN:VEVENT
DTSTART;TZID=Europe/London:20250614T100000
DTEND;TZID=Europe/London:20250614T140000
DTSTAMP:20260420T011409
CREATED:20250509T131519Z
LAST-MODIFIED:20250525T210604Z
UID:1873-1749895200-1749909600@greenwatford.uk
SUMMARY:CLP's Plant & Planet Fair
DESCRIPTION:On Saturday 14th June 2025 we will have plenty of tea\, coffee and cake for you to enjoy in the yarn room\, as well as stalls selling items made from natural\, reused or repurposed resources and materials\, craft kits and more. There will be stalls selling plants and horticulture related goods for sale in the large hall. Entry is £1 per person\, under 5s free \nSuitable for all ages\, wheelchair accessible \n 
URL:https://greenwatford.uk/event/clps-plant-planet-fair/
LOCATION:St Martin’s Church\, Muirfield Road\, South Oxhey\, WD19 6JD
CATEGORIES:Community
END:VEVENT
BEGIN:VEVENT
DTSTART;TZID=Europe/London:20250614T110000
DTEND;TZID=Europe/London:20250614T150000
DTSTAMP:20260420T011409
CREATED:20250425T125825Z
LAST-MODIFIED:20250425T125825Z
UID:1784-1749898800-1749913200@greenwatford.uk
SUMMARY:Random Cafe Great Big Green Day
DESCRIPTION:A old style garden fete\, with information stalls and fun and games for all the family. \nNo booking required; free event but costs for refreshments and some stalls \nSuitable for all ages; Wheelchair accessible
URL:https://greenwatford.uk/event/random-cafe-great-big-green-day/
LOCATION:Random Cafe\, Meriden Gardens\,24a Garsmouth Way\, Watford\, WD25 9DR
CATEGORIES:Climate focused events,Community,Food events
END:VEVENT
BEGIN:VEVENT
DTSTART;TZID=Europe/London:20250615T190000
DTEND;TZID=Europe/London:20250615T200000
DTSTAMP:20260420T011409
CREATED:20250425T211215Z
LAST-MODIFIED:20250525T210154Z
UID:1827-1750014000-1750017600@greenwatford.uk
SUMMARY:Meeting for Worship outdoors
DESCRIPTION:Sustainability is a core Quaker value. Join us for silent worship outside in our peaceful garden\, followed by refreshments. All welcome. Wheelchair accessible. \nWe will move inside in the event of rain \n 
URL:https://greenwatford.uk/event/meeting-for-worship-outdoors/
LOCATION:Watford Quaker Meeting House\, 150 Church Road\, Watford\, WD17 4QB\, United Kingdom
CATEGORIES:Community
ORGANIZER;CN="Watford Quakers":MAILTO:enquiries@watfordquakers.org.uk
END:VEVENT
END:VCALENDAR